BEGIN:VCALENDAR
VERSION:2.0
PRODID:-//CADILLAC AUTOMOBILE CLUB - ECPv6.15.20//NONSGML v1.0//EN
CALSCALE:GREGORIAN
METHOD:PUBLISH
X-WR-CALNAME:CADILLAC AUTOMOBILE CLUB
X-ORIGINAL-URL:https://cadillacautomobileclub.com
X-WR-CALDESC:Händelser för CADILLAC AUTOMOBILE CLUB
REFRESH-INTERVAL;VALUE=DURATION:PT1H
X-Robots-Tag:noindex
X-PUBLISHED-TTL:PT1H
BEGIN:VTIMEZONE
TZID:Europe/Stockholm
BEGIN:DAYLIGHT
TZOFFSETFROM:+0100
TZOFFSETTO:+0200
TZNAME:CEST
DTSTART:20250330T010000
END:DAYLIGHT
BEGIN:STANDARD
TZOFFSETFROM:+0200
TZOFFSETTO:+0100
TZNAME:CET
DTSTART:20251026T010000
END:STANDARD
BEGIN:DAYLIGHT
TZOFFSETFROM:+0100
TZOFFSETTO:+0200
TZNAME:CEST
DTSTART:20260329T010000
END:DAYLIGHT
BEGIN:STANDARD
TZOFFSETFROM:+0200
TZOFFSETTO:+0100
TZNAME:CET
DTSTART:20261025T010000
END:STANDARD
BEGIN:DAYLIGHT
TZOFFSETFROM:+0100
TZOFFSETTO:+0200
TZNAME:CEST
DTSTART:20270328T010000
END:DAYLIGHT
BEGIN:STANDARD
TZOFFSETFROM:+0200
TZOFFSETTO:+0100
TZNAME:CET
DTSTART:20271031T010000
END:STANDARD
END:VTIMEZONE
BEGIN:VEVENT
DTSTART;VALUE=DATE:20260522
DTEND;VALUE=DATE:20260525
DTSTAMP:20260423T122317
CREATED:20250917T072358Z
LAST-MODIFIED:20260310T073316Z
UID:6874-1779408000-1779667199@cadillacautomobileclub.com
SUMMARY:Vårträffen 2026
DESCRIPTION:
URL:https://cadillacautomobileclub.com/event/vartraffen-2026/
LOCATION:Guntorps Herrgård\, Borgholm\, Guntorpsgatan 2\, Borgholm\, 38736
ATTACH;FMTTYPE=image/webp:https://cadillacautomobileclub.com/wp-content/uploads/2025/09/Guntorps-Herrgard.webp
END:VEVENT
BEGIN:VEVENT
DTSTART;TZID=Europe/Stockholm:20260524T103000
DTEND;TZID=Europe/Stockholm:20260524T120000
DTSTAMP:20260423T122317
CREATED:20260317T102501Z
LAST-MODIFIED:20260317T102502Z
UID:7338-1779618600-1779624000@cadillacautomobileclub.com
SUMMARY:Inbjudan till årsmöte
DESCRIPTION:Inbjudan till årsmöte 24/5 2026\, kl. 10.30\, på Guntorps Herrgård i Borgholm \nFör er som är intresserade så håller CAC sitt årsmöte på söndag förmiddag kl. 10.30. Varje medlemsnummer har en röst på mötet. \nEventuella motioner skickas till styrelsen via info@cadillacautomobileclub.com senast 20/4. \nCAC är mycket glada att vi har en riktig Valberedning. I CAC´s Valberedning sitter Helen Ödberg och Gun Sjöberg. \nFörslag på nya eller fler styrelsemedlemmar skickas till Valberedningen via valberedning@cadillacautomobileclub.com \nTänk på att den som ni nominerar måste vara tillfrågad och accepterat att ni nominerar denne. Personen som nomineras skall även vara personligen närvarande under årsmötet. Det går dock bra för den nominerade att medverka digitalt på mötet. \nMer information om medlemmarna i Valberedningen finner ni på vår hemsida: https://cadillacautomobileclub.com/clubbinfo \nHjärtligt välkomna att deltaga!
URL:https://cadillacautomobileclub.com/event/inbjudan-till-arsmote/
LOCATION:Guntorps Herrgård\, Borgholm\, Guntorpsgatan 2\, Borgholm\, 38736
ATTACH;FMTTYPE=image/webp:https://cadillacautomobileclub.com/wp-content/uploads/2025/09/Guntorps-Herrgard.webp
END:VEVENT
BEGIN:VEVENT
DTSTART;VALUE=DATE:20260529
DTEND;VALUE=DATE:20260601
DTSTAMP:20260423T122317
CREATED:20250119T160537Z
LAST-MODIFIED:20260225T111805Z
UID:5690-1780012800-1780271999@cadillacautomobileclub.com
SUMMARY:Gothenburg Classic Car
DESCRIPTION:Vi är den nya urbana mötesplatsen och fordonsfestivalen mitt i Göteborg och Lindholmen. Upplev över 500 noga utvalda klassiska fordon. Strosa runt i våra kulturhistoriska miljöer som består av hangarer\, öppna ytor och små gränder – med gator som Volvo Boulevard\, Die Auto Strasse\, Little Italy\, Stars & Stripes och Porsche Strasse m. fl. \nUpplev våra hangarer: The Church – en 6 000 m² stor hangar med scen och F1 Strip. The Collection – en unik inomhusyta på 3 000 m² där 50–60 utvalda fordon ställs ut. Under festivalen kommer du kunna uppleva klassiska fordon\, supercars\, Formel 1-bilar\, unika historiska fordon\, youngtimers\, motorcyklar\, mopeder\, marknader\, musik samt mat och dryck av bästa sort – signerat Kooperativet och Lindholmen Street Food Market. \nPremium Classic Car Exhibition\, Super Cars Exhibition\, Historical Racing Cars Experience\, Motorcykles\, Airshow\, Formula Cars\, Legendary people\, Live music\, Streetfood. \nKlubbanmälan \nVi har möjlighet att visa upp vår klubbverksamhet och berätta vår historia. Ni får möjlighet att möta en delvis ny publik och locka nya medlemmar. Tillsammans med vår partner MHRF (Motorhistoriska riksförbundet) kommer vi att lyfta fram det rullande kulturarvet och visa på klubbarnas viktiga verksamhet och funktion. \nNu försöker vi att få till en stor monter! \nAnmäl er till Johan Sjölander via telefon/SMS 070-6738989 eller mail: info@cadillacautomobileclub.com senast 10:e maj 2026. \nVi önskar att vi kan fylla dom 10st platser vi förfogar över. Detta år har vi blivit tilldelade en plats för montern inomhus. Vi vet att en lång dag på Tjolöholm helt plötsligt blivit en hel helg i Göteborg. Hoppas ändå på att vi är många som vill ställa upp för klubben och visa vad vi är för står för med allt vad det betyder. Ni som ställer ut er bil i CAC´s monter erhåller en gåva. \nVi litar på er! \nBesök gärna deras hemsida: https://www.gccw.se/ eller scanna QR-koden i deras logga. (längst upp i inbjudan.) \nVälkomna!
URL:https://cadillacautomobileclub.com/event/gothenburg-classic-car-weekend/
LOCATION:Göteborg/Lindholmen\, 57.70686\, 11.934067
ATTACH;FMTTYPE=image/png:https://cadillacautomobileclub.com/wp-content/uploads/2025/01/29-maj-2026-classic-car-weekend2.png
END:VEVENT
BEGIN:VEVENT
DTSTART;VALUE=DATE:20260613
DTEND;VALUE=DATE:20260614
DTSTAMP:20260423T122317
CREATED:20250119T155547Z
LAST-MODIFIED:20260220T130856Z
UID:5687-1781308800-1781395199@cadillacautomobileclub.com
SUMMARY:Nossebro
DESCRIPTION:Den 13:e juni är en dag för alla retro- och motorgalna. Här kan man njuta av veteranbilar\, veterantraktorer\, A-traktorer\, MC och mopeder samt märkesklubbar. \nNostalgifestivalen i Nossebro – Ett Mekka för bilar\, musik\, prylar\, saker och till. \nDet kommer att finnas roliga aktiviteter under dagen för alla – Veteranfordonträff och utställning – Stor vintage- och retromarknad med gamla prylar – Livemusik och förstklassiga artister. \nUnika utställningar – Massor av aktiviteter/utställningar – Tatuera dig på plats – Fixa håret hos specialiserade frisörer – Tävling i bästa nostalgiklädsel – Tävla i fordonsklasser\, bl.a Årets Nostalgifordon som koras av vår jury \nMer info: https://www.nostalgifestivalen.com/tour Anmäl er snarast för att vi ska kunna boka utställningsplats så att alla får plats\, till Melker Davidsson på tel. 070-9766130 eller mail: melkerdavidsson@gmail.com senast 17 maj. \nNi som ställer ut er bil i CAC´s monter erhåller en gåva. Välkomna!
URL:https://cadillacautomobileclub.com/event/nossebro-motorlordag/
LOCATION:Nossebro Motorlördag\, Sturegatan 6\, Nossebro\, 46530
ATTACH;FMTTYPE=image/jpeg:https://cadillacautomobileclub.com/wp-content/uploads/2025/11/Nossebro-2026.jpg
END:VEVENT
BEGIN:VEVENT
DTSTART;VALUE=DATE:20260910
DTEND;VALUE=DATE:20260914
DTSTAMP:20260423T122317
CREATED:20260330T144009Z
LAST-MODIFIED:20260330T144009Z
UID:7341-1788998400-1789343999@cadillacautomobileclub.com
SUMMARY:Höstträff
DESCRIPTION:Save the date! \nCadillac Automobile Clubs medlemmar är varmt välkomna till vår Höstträff på vackra Österlen och hotell Svea i Simrishamn. Skriv in 10–13:e september i kalendern. \nMer info om Höstträffen kommer inom kort på klubbens hemsida: https://cadillacautomobileclub.com/events/ \n     \n 
URL:https://cadillacautomobileclub.com/event/hosttraff/
LOCATION:Hotell Svea\, Strandvägen 3\, Simrishamn\, 272 31
ATTACH;FMTTYPE=image/webp:https://cadillacautomobileclub.com/wp-content/uploads/2026/03/etta.webp
END:VEVENT
END:VCALENDAR